BEGIN:VCALENDAR
VERSION:2.0
PRODID:-//Fiber Broadband Association - ECPv6.15.17//NONSGML v1.0//EN
CALSCALE:GREGORIAN
METHOD:PUBLISH
X-ORIGINAL-URL:https://fiberbroadband.org
X-WR-CALDESC:Events for Fiber Broadband Association
REFRESH-INTERVAL;VALUE=DURATION:PT1H
X-Robots-Tag:noindex
X-PUBLISHED-TTL:PT1H
BEGIN:VTIMEZONE
TZID:America/Detroit
BEGIN:DAYLIGHT
TZOFFSETFROM:-0500
TZOFFSETTO:-0400
TZNAME:EDT
DTSTART:20250309T070000
END:DAYLIGHT
BEGIN:STANDARD
TZOFFSETFROM:-0400
TZOFFSETTO:-0500
TZNAME:EST
DTSTART:20251102T060000
END:STANDARD
BEGIN:DAYLIGHT
TZOFFSETFROM:-0500
TZOFFSETTO:-0400
TZNAME:EDT
DTSTART:20260308T070000
END:DAYLIGHT
BEGIN:STANDARD
TZOFFSETFROM:-0400
TZOFFSETTO:-0500
TZNAME:EST
DTSTART:20261101T060000
END:STANDARD
BEGIN:DAYLIGHT
TZOFFSETFROM:-0500
TZOFFSETTO:-0400
TZNAME:EDT
DTSTART:20270314T070000
END:DAYLIGHT
BEGIN:STANDARD
TZOFFSETFROM:-0400
TZOFFSETTO:-0500
TZNAME:EST
DTSTART:20271107T060000
END:STANDARD
END:VTIMEZONE
BEGIN:VEVENT
DTSTART;TZID=America/Detroit:20260603T170000
DTEND;TZID=America/Detroit:20260603T190000
DTSTAMP:20260422T142925
CREATED:20260225T143525Z
LAST-MODIFIED:20260225T143525Z
UID:10000646-1780506000-1780513200@fiberbroadband.org
SUMMARY:FBA Member Mingle - Atlanta\, GA
DESCRIPTION:FBA will be holding a Member Mingle in Atlanta\, Georgia on June 3rd from 5-7 pm local time. FBA members are invited to attend this complimentary “members-only” networking event. Join FBA’s Manager of Membership Outreach and Engagement\, Kim Rickard\, for some conversation\, connections\, and light fare. Please RSVP to membership@fiberbroadband.org. \nFBA staff will respond to confirm your attendance and share the specific location details.
URL:https://fiberbroadband.org/event/fba-member-mingle-atlanta-ga/
LOCATION:Atlanta\, Georgia
ATTACH;FMTTYPE=image/png:https://fiberbroadband.org/wp-content/uploads/2026/01/FBA_LogoUpdate_StackLogo_4C.png
END:VEVENT
END:VCALENDAR