BEGIN:VCALENDAR
VERSION:2.0
PRODID:-//Fiber Broadband Association - ECPv6.15.17//NONSGML v1.0//EN
CALSCALE:GREGORIAN
METHOD:PUBLISH
X-ORIGINAL-URL:https://fiberbroadband.org
X-WR-CALDESC:Events for Fiber Broadband Association
REFRESH-INTERVAL;VALUE=DURATION:PT1H
X-Robots-Tag:noindex
X-PUBLISHED-TTL:PT1H
BEGIN:VTIMEZONE
TZID:America/Detroit
BEGIN:DAYLIGHT
TZOFFSETFROM:-0500
TZOFFSETTO:-0400
TZNAME:EDT
DTSTART:20230312T070000
END:DAYLIGHT
BEGIN:STANDARD
TZOFFSETFROM:-0400
TZOFFSETTO:-0500
TZNAME:EST
DTSTART:20231105T060000
END:STANDARD
BEGIN:DAYLIGHT
TZOFFSETFROM:-0500
TZOFFSETTO:-0400
TZNAME:EDT
DTSTART:20240310T070000
END:DAYLIGHT
BEGIN:STANDARD
TZOFFSETFROM:-0400
TZOFFSETTO:-0500
TZNAME:EST
DTSTART:20241103T060000
END:STANDARD
BEGIN:DAYLIGHT
TZOFFSETFROM:-0500
TZOFFSETTO:-0400
TZNAME:EDT
DTSTART:20250309T070000
END:DAYLIGHT
BEGIN:STANDARD
TZOFFSETFROM:-0400
TZOFFSETTO:-0500
TZNAME:EST
DTSTART:20251102T060000
END:STANDARD
BEGIN:DAYLIGHT
TZOFFSETFROM:-0500
TZOFFSETTO:-0400
TZNAME:EDT
DTSTART:20260308T070000
END:DAYLIGHT
BEGIN:STANDARD
TZOFFSETFROM:-0400
TZOFFSETTO:-0500
TZNAME:EST
DTSTART:20261101T060000
END:STANDARD
END:VTIMEZONE
BEGIN:VEVENT
DTSTART;TZID=America/Detroit:20250601T130000
DTEND;TZID=America/Detroit:20250601T133000
DTSTAMP:20260421T154250
CREATED:20250307T180048Z
LAST-MODIFIED:20250307T180327Z
UID:10000388-1748782800-1748784600@fiberbroadband.org
SUMMARY:FBA All Members Meeting
DESCRIPTION:Save the Date for FBA’s All Members Meeting on June 1st at 1 PM (local time) at Fiber Connect 2025! Join Fiber Broadband Association President & CEO\, Gary Bolton\, FBA Board of Directors\, Leadership and Staff.
URL:https://fiberbroadband.org/event/fba-all-members-meeting/
LOCATION:Gaylord Opryland\, 2800 Opryland Dr\, Nashville\, TN\, 37214\, United States
ATTACH;FMTTYPE=image/png:https://fiberbroadband.org/wp-content/uploads/2025/03/FC25_Horizonal_Color.png
END:VEVENT
BEGIN:VEVENT
DTSTART;TZID=America/Detroit:20250601T080000
DTEND;TZID=America/Detroit:20250604T170000
DTSTAMP:20260421T154250
CREATED:20250120T183208Z
LAST-MODIFIED:20250120T183521Z
UID:10000356-1748764800-1749056400@fiberbroadband.org
SUMMARY:Fiber Connect 2025
DESCRIPTION:Join us at Fiber Connect – The Premier Fiber Optic Tradeshow\nFind your next customer\, big idea\, or solution at the place where it all happens.\n  \nFiber Connect is a leading event for the fiber optic industry\, bringing together over 5\,000 professionals from across the broadband ecosystem\, including network operators\, 5G carriers\, infrastructure providers\, and investors. The event focuses on networking\, education\, and business development\, offering opportunities to connect with key stakeholders like government officials\, enterprise leaders\, and technology providers. Attendees can participate in speaking engagements\, lead generation programs\, and branding activities such as video packages and white paper distributions. Fiber Connect also hosts various meetups\, receptions\, and sessions to help professionals grow their networks and build partnerships. \nThe event includes keynote presentations\, panels\, and breakout sessions on topics such as fiber deployment\, digital equity\, workforce development\, and advancements in fiber technology. Attendees can explore the latest tools and services at the exhibit hall\, featuring proof-of-concepts\, hands-on demonstrations\, and smart-home technology. Fiber Connect 2025 provides a practical platform for learning\, discovering new solutions\, and staying updated on developments in the broadband industry. \nTo learn about Sponsorship and Exhibiting opportunities\, please contact Lucy Green. \nTo become a member of the Fiber Broadband Association\, please contact membership@fiberbroadband.org. \n		\n					\n				Learn More & Register
URL:https://fiberbroadband.org/event/fiber-connect-2025-2/
LOCATION:Gaylord Opryland\, 2800 Opryland Dr\, Nashville\, TN\, 37214\, United States
CATEGORIES:FBA Events,Industry Event
ATTACH;FMTTYPE=image/png:https://fiberbroadband.org/wp-content/uploads/2025/01/FC25_Horizonal_Color-e1751403560176.png
END:VEVENT
BEGIN:VEVENT
DTSTART;VALUE=DATE:20240728
DTEND;VALUE=DATE:20240801
DTSTAMP:20260421T154250
CREATED:20231220T201031Z
LAST-MODIFIED:20240318T145504Z
UID:10000128-1722124800-1722470399@fiberbroadband.org
SUMMARY:Fiber Connect 2024 - Nashville\, Tennessee
DESCRIPTION:Fiber Connect 2024 is where the industry will meet as we embark on the most exciting fiber broadband expansion period our industry has seen.. Returning to the vibrant city of Nashville\, Tennessee\, at the esteemed Gaylord Opryland Resort and Convention Center\, this summer’s event is poised to surpass all expectations. As the epicenter of innovation and collaboration in the broadband infrastructure industry\, Fiber Connect beckons industry leaders\, enthusiasts\, and visionaries alike to converge for what guarantees to be our most productive event yet. \n  \n		\n					\n				Official Fiber Connect 2024 Event Page
URL:https://fiberbroadband.org/event/fiber-connect-2024-nashville-tennessee/
LOCATION:Gaylord Opryland\, 2800 Opryland Dr\, Nashville\, TN\, 37214\, United States
ATTACH;FMTTYPE=image/jpeg:https://fiberbroadband.org/wp-content/uploads/2023/12/18291_tileBG_20_0.4368097-1.jpg
END:VEVENT
END:VCALENDAR