BEGIN:VCALENDAR
VERSION:2.0
PRODID:-//Fiber Broadband Association - ECPv6.15.17//NONSGML v1.0//EN
CALSCALE:GREGORIAN
METHOD:PUBLISH
X-WR-CALNAME:Fiber Broadband Association
X-ORIGINAL-URL:https://fiberbroadband.org
X-WR-CALDESC:Events for Fiber Broadband Association
REFRESH-INTERVAL;VALUE=DURATION:PT1H
X-Robots-Tag:noindex
X-PUBLISHED-TTL:PT1H
BEGIN:VTIMEZONE
TZID:America/Detroit
BEGIN:DAYLIGHT
TZOFFSETFROM:-0500
TZOFFSETTO:-0400
TZNAME:EDT
DTSTART:20230312T070000
END:DAYLIGHT
BEGIN:STANDARD
TZOFFSETFROM:-0400
TZOFFSETTO:-0500
TZNAME:EST
DTSTART:20231105T060000
END:STANDARD
BEGIN:DAYLIGHT
TZOFFSETFROM:-0500
TZOFFSETTO:-0400
TZNAME:EDT
DTSTART:20240310T070000
END:DAYLIGHT
BEGIN:STANDARD
TZOFFSETFROM:-0400
TZOFFSETTO:-0500
TZNAME:EST
DTSTART:20241103T060000
END:STANDARD
BEGIN:DAYLIGHT
TZOFFSETFROM:-0500
TZOFFSETTO:-0400
TZNAME:EDT
DTSTART:20250309T070000
END:DAYLIGHT
BEGIN:STANDARD
TZOFFSETFROM:-0400
TZOFFSETTO:-0500
TZNAME:EST
DTSTART:20251102T060000
END:STANDARD
END:VTIMEZONE
BEGIN:VEVENT
DTSTART;TZID=America/Detroit:20240208T080000
DTEND;TZID=America/Detroit:20240208T171500
DTSTAMP:20260422T064654
CREATED:20231220T151543Z
LAST-MODIFIED:20231220T161315Z
UID:10000123-1707379200-1707412500@fiberbroadband.org
SUMMARY:2024 Regional Fiber Connect Workshop Series - Richmond\, VA
DESCRIPTION:  \nThe Fiber Broadband Association hosts Regional Fiber Connect events throughout the year to bring together industry professionals and share best practices for deploying fiber broadband. These events provide networking opportunities and educational sessions\, covering topics such as emerging trends\, innovative technologies\, and regulatory considerations. The goal is to empower attendees with the latest insights and strategies for successful fiber broadband deployment\, fostering a sense of community and collaboration within the industry. This event will take place in Richmond\, Virginia on February 8th. \n		\n					\n				Register Now!
URL:https://fiberbroadband.org/event/2024-regional-fiber-connect-workshop-series-richmond-va/
LOCATION:Omni Hotel\, 100 South 12th Street\, Richmond\, VA\, 23219\, United States
ATTACH;FMTTYPE=image/jpeg:https://fiberbroadband.org/wp-content/uploads/2023/12/FBA-034_Regional_HeaderB_1200x500_Richmond_RFC-1.jpg
END:VEVENT
END:VCALENDAR