BEGIN:VCALENDAR
VERSION:2.0
PRODID:-//Fiber Broadband Association - ECPv6.15.17//NONSGML v1.0//EN
CALSCALE:GREGORIAN
METHOD:PUBLISH
X-ORIGINAL-URL:https://fiberbroadband.org
X-WR-CALDESC:Events for Fiber Broadband Association
REFRESH-INTERVAL;VALUE=DURATION:PT1H
X-Robots-Tag:noindex
X-PUBLISHED-TTL:PT1H
BEGIN:VTIMEZONE
TZID:America/Detroit
BEGIN:DAYLIGHT
TZOFFSETFROM:-0500
TZOFFSETTO:-0400
TZNAME:EDT
DTSTART:20250309T070000
END:DAYLIGHT
BEGIN:STANDARD
TZOFFSETFROM:-0400
TZOFFSETTO:-0500
TZNAME:EST
DTSTART:20251102T060000
END:STANDARD
BEGIN:DAYLIGHT
TZOFFSETFROM:-0500
TZOFFSETTO:-0400
TZNAME:EDT
DTSTART:20260308T070000
END:DAYLIGHT
BEGIN:STANDARD
TZOFFSETFROM:-0400
TZOFFSETTO:-0500
TZNAME:EST
DTSTART:20261101T060000
END:STANDARD
BEGIN:DAYLIGHT
TZOFFSETFROM:-0500
TZOFFSETTO:-0400
TZNAME:EDT
DTSTART:20270314T070000
END:DAYLIGHT
BEGIN:STANDARD
TZOFFSETFROM:-0400
TZOFFSETTO:-0500
TZNAME:EST
DTSTART:20271107T060000
END:STANDARD
END:VTIMEZONE
BEGIN:VEVENT
DTSTART;VALUE=DATE:20260609
DTEND;VALUE=DATE:20260612
DTSTAMP:20260422T160457
CREATED:20251222T201702Z
LAST-MODIFIED:20251222T201702Z
UID:10000580-1780963200-1781222399@fiberbroadband.org
SUMMARY:FBA at CRRBC Eastern Canada 2026
DESCRIPTION:Fiber Broadband Association (FBA) will be attending CRRBC Eastern Canada June 9-11 in Rama (Orillia)\, Ontario. Connect with FBA’s Manager\, Membership Outreach and Engagement\, Kim Rickard. \n 
URL:https://fiberbroadband.org/event/fba-at-crrbc-eastern-canada-2026/
LOCATION:Orilla\, Ontario
ATTACH;FMTTYPE=image/webp:https://fiberbroadband.org/wp-content/uploads/2025/12/qtq_95.webp
END:VEVENT
END:VCALENDAR